BEGIN:VCALENDAR
VERSION:2.0
PRODID:-//Pascoe Vale South Primary School - ECPv4.0.7//NONSGML v1.0//EN
CALSCALE:GREGORIAN
METHOD:PUBLISH
X-WR-CALNAME:Pascoe Vale South Primary School
X-ORIGINAL-URL:http://www.pvsps.vic.edu.au
X-WR-CALDESC:Events for Pascoe Vale South Primary School
BEGIN:VEVENT
DTSTART;VALUE=DATE:20171223
DTEND;VALUE=DATE:20180130
DTSTAMP:20180226T200644
CREATED:20170326
LAST-MODIFIED:20180121
UID:1535-1513987200-1517356799@www.pvsps.vic.edu.au
SUMMARY:Summer vacation
DESCRIPTION:
URL:http://www.pvsps.vic.edu.au/index.php/events/summer-vacation
LOCATION:Array
END:VEVENT
BEGIN:VEVENT
DTSTART;VALUE=DATE:20180131
DTEND;VALUE=DATE:20180131
DTSTAMP:20180226T200644
CREATED:20180121
LAST-MODIFIED:20180121
UID:1627-1517356800-1517443199@www.pvsps.vic.edu.au
SUMMARY:Students in Years 1 - 6 commence
DESCRIPTION:
URL:http://www.pvsps.vic.edu.au/index.php/events/students-in-years-1-6-commence
LOCATION:Array
END:VEVENT
BEGIN:VEVENT
DTSTART;VALUE=DATE:20180201
DTEND;VALUE=DATE:20180201
DTSTAMP:20180226T200644
CREATED:20180121
LAST-MODIFIED:20180124
UID:1628-1517443200-1517529599@www.pvsps.vic.edu.au
SUMMARY:Students in Prep commence
DESCRIPTION:2018.02.24 Building project - access to school info for families
URL:http://www.pvsps.vic.edu.au/index.php/events/students-in-prep-commence
LOCATION:Array
END:VEVENT
BEGIN:VEVENT
DTSTART;VALUE=DATE:20180213
DTEND;VALUE=DATE:20180213
DTSTAMP:20180226T200644
CREATED:20180121
LAST-MODIFIED:20180121
UID:1629-1518480000-1518566399@www.pvsps.vic.edu.au
SUMMARY:Community Picnic 5.00 - 7.00pm
DESCRIPTION:
URL:http://www.pvsps.vic.edu.au/index.php/events/community-picnic-5-00-7-00pm
LOCATION:Array
END:VEVENT
BEGIN:VEVENT
DTSTART;VALUE=DATE:20180219
DTEND;VALUE=DATE:20180219
DTSTAMP:20180226T200644
CREATED:20180121
LAST-MODIFIED:20180217
UID:1630-1518998400-1519084799@www.pvsps.vic.edu.au
SUMMARY:Meet and Greet evening
DESCRIPTION:3.45 - 6.30pm For families of students and their home group teacher\n\n
URL:http://www.pvsps.vic.edu.au/index.php/events/meet-the-teacher-prep-to-year-3
LOCATION:Array
END:VEVENT
BEGIN:VEVENT
DTSTART;VALUE=DATE:20180220
DTEND;VALUE=DATE:20180220
DTSTAMP:20180226T200644
CREATED:20180121
LAST-MODIFIED:20180217
UID:1631-1519084800-1519171199@www.pvsps.vic.edu.au
SUMMARY:Meet and Greet evening
DESCRIPTION:3.45 - 6.30pm For families of students and home group teachers.\n\n
URL:http://www.pvsps.vic.edu.au/index.php/events/meet-the-teacher-years-4-to-6
LOCATION:Array
END:VEVENT
BEGIN:VEVENT
DTSTART;VALUE=DATE:20180303
DTEND;VALUE=DATE:20180303
DTSTAMP:20180226T200644
CREATED:20180121
LAST-MODIFIED:20180121
UID:1632-1520035200-1520121599@www.pvsps.vic.edu.au
SUMMARY:Bunnings BBQ (Coburg) - fundraising event
DESCRIPTION:
URL:http://www.pvsps.vic.edu.au/index.php/events/bunnings-bbq-coburg-fundraising-event
LOCATION:Array
END:VEVENT
END:VCALENDAR